BEGIN:VCALENDAR
VERSION:2.0
PRODID:-//City of Tacoma - ECPv6.15.13.1//NONSGML v1.0//EN
CALSCALE:GREGORIAN
METHOD:PUBLISH
X-WR-CALNAME:City of Tacoma
X-ORIGINAL-URL:https://tacoma.gov
X-WR-CALDESC:Events for City of Tacoma
REFRESH-INTERVAL;VALUE=DURATION:PT1H
X-Robots-Tag:noindex
X-PUBLISHED-TTL:PT1H
BEGIN:VTIMEZONE
TZID:America/Los_Angeles
BEGIN:DAYLIGHT
TZOFFSETFROM:-0800
TZOFFSETTO:-0700
TZNAME:PDT
DTSTART:20280312T100000
END:DAYLIGHT
BEGIN:STANDARD
TZOFFSETFROM:-0700
TZOFFSETTO:-0800
TZNAME:PST
DTSTART:20281105T090000
END:STANDARD
BEGIN:DAYLIGHT
TZOFFSETFROM:-0800
TZOFFSETTO:-0700
TZNAME:PDT
DTSTART:20290311T100000
END:DAYLIGHT
BEGIN:STANDARD
TZOFFSETFROM:-0700
TZOFFSETTO:-0800
TZNAME:PST
DTSTART:20291104T090000
END:STANDARD
BEGIN:DAYLIGHT
TZOFFSETFROM:-0800
TZOFFSETTO:-0700
TZNAME:PDT
DTSTART:20300310T100000
END:DAYLIGHT
BEGIN:STANDARD
TZOFFSETFROM:-0700
TZOFFSETTO:-0800
TZNAME:PST
DTSTART:20301103T090000
END:STANDARD
BEGIN:DAYLIGHT
TZOFFSETFROM:-0800
TZOFFSETTO:-0700
TZNAME:PDT
DTSTART:20310309T100000
END:DAYLIGHT
BEGIN:STANDARD
TZOFFSETFROM:-0700
TZOFFSETTO:-0800
TZNAME:PST
DTSTART:20311102T090000
END:STANDARD
END:VTIMEZONE
BEGIN:VEVENT
DTSTART;TZID=America/Los_Angeles:20290514T170000
DTEND;TZID=America/Los_Angeles:20290514T190000
DTSTAMP:20260421T051636
CREATED:20250227T230029Z
LAST-MODIFIED:20250506T165621Z
UID:10004868-1873472400-1873479600@tacoma.gov
SUMMARY:Tacoma Arts Commission Meeting
DESCRIPTION:The Tacoma Arts Commission provides leadership in supporting and enhancing arts and culture for the benefit of the City and its residents. The primary responsibility of the Commission is to create policies to support the ongoing development of arts programs and projects in Tacoma. \nHybrid meetings are held every second Monday of the month from 5:00 – 7:00 PM. Committee members and members of the public can participate in the monthly Zoom meeting virtually or at Tacoma Municipal Building in Room 248. \nZoom Link: Please see the agenda for details. \nPublic Comment: The public may give oral comments related to agenda items at the beginning of the meeting. Speakers will have anywhere from 90 seconds to three minutes to provide comment\, depending on the available time on the agenda. Or the public may submit general comments in writing by 5:00 PM one day prior to the meeting. Written comments should be emailed and include “TAC Meeting Public Comment” in the subject line. \nTo learn more\, please visit the Tacoma Arts Commission page.
URL:https://tacoma.gov/event/tacoma-arts-commission-meeting/2029-05-14/
LOCATION:Tacoma Municipal Building\, Room 248\, 747 Market Street\, Tacoma\, WA\, 98402\, United States
ORGANIZER;CN="Rebecca Solverson":MAILTO:rebecca.solverson@tacoma.gov
END:VEVENT
BEGIN:VEVENT
DTSTART;TZID=America/Los_Angeles:20290611T170000
DTEND;TZID=America/Los_Angeles:20290611T190000
DTSTAMP:20260421T051636
CREATED:20250227T230029Z
LAST-MODIFIED:20250506T165621Z
UID:10004869-1875891600-1875898800@tacoma.gov
SUMMARY:Tacoma Arts Commission Meeting
DESCRIPTION:The Tacoma Arts Commission provides leadership in supporting and enhancing arts and culture for the benefit of the City and its residents. The primary responsibility of the Commission is to create policies to support the ongoing development of arts programs and projects in Tacoma. \nHybrid meetings are held every second Monday of the month from 5:00 – 7:00 PM. Committee members and members of the public can participate in the monthly Zoom meeting virtually or at Tacoma Municipal Building in Room 248. \nZoom Link: Please see the agenda for details. \nPublic Comment: The public may give oral comments related to agenda items at the beginning of the meeting. Speakers will have anywhere from 90 seconds to three minutes to provide comment\, depending on the available time on the agenda. Or the public may submit general comments in writing by 5:00 PM one day prior to the meeting. Written comments should be emailed and include “TAC Meeting Public Comment” in the subject line. \nTo learn more\, please visit the Tacoma Arts Commission page.
URL:https://tacoma.gov/event/tacoma-arts-commission-meeting/2029-06-11/
LOCATION:Tacoma Municipal Building\, Room 248\, 747 Market Street\, Tacoma\, WA\, 98402\, United States
ORGANIZER;CN="Rebecca Solverson":MAILTO:rebecca.solverson@tacoma.gov
END:VEVENT
BEGIN:VEVENT
DTSTART;TZID=America/Los_Angeles:20290709T170000
DTEND;TZID=America/Los_Angeles:20290709T190000
DTSTAMP:20260421T051636
CREATED:20250227T230029Z
LAST-MODIFIED:20250506T165621Z
UID:10004870-1878310800-1878318000@tacoma.gov
SUMMARY:Tacoma Arts Commission Meeting
DESCRIPTION:The Tacoma Arts Commission provides leadership in supporting and enhancing arts and culture for the benefit of the City and its residents. The primary responsibility of the Commission is to create policies to support the ongoing development of arts programs and projects in Tacoma. \nHybrid meetings are held every second Monday of the month from 5:00 – 7:00 PM. Committee members and members of the public can participate in the monthly Zoom meeting virtually or at Tacoma Municipal Building in Room 248. \nZoom Link: Please see the agenda for details. \nPublic Comment: The public may give oral comments related to agenda items at the beginning of the meeting. Speakers will have anywhere from 90 seconds to three minutes to provide comment\, depending on the available time on the agenda. Or the public may submit general comments in writing by 5:00 PM one day prior to the meeting. Written comments should be emailed and include “TAC Meeting Public Comment” in the subject line. \nTo learn more\, please visit the Tacoma Arts Commission page.
URL:https://tacoma.gov/event/tacoma-arts-commission-meeting/2029-07-09/
LOCATION:Tacoma Municipal Building\, Room 248\, 747 Market Street\, Tacoma\, WA\, 98402\, United States
ORGANIZER;CN="Rebecca Solverson":MAILTO:rebecca.solverson@tacoma.gov
END:VEVENT
BEGIN:VEVENT
DTSTART;TZID=America/Los_Angeles:20290813T170000
DTEND;TZID=America/Los_Angeles:20290813T190000
DTSTAMP:20260421T051636
CREATED:20250227T230029Z
LAST-MODIFIED:20250506T165621Z
UID:10004871-1881334800-1881342000@tacoma.gov
SUMMARY:Tacoma Arts Commission Meeting
DESCRIPTION:The Tacoma Arts Commission provides leadership in supporting and enhancing arts and culture for the benefit of the City and its residents. The primary responsibility of the Commission is to create policies to support the ongoing development of arts programs and projects in Tacoma. \nHybrid meetings are held every second Monday of the month from 5:00 – 7:00 PM. Committee members and members of the public can participate in the monthly Zoom meeting virtually or at Tacoma Municipal Building in Room 248. \nZoom Link: Please see the agenda for details. \nPublic Comment: The public may give oral comments related to agenda items at the beginning of the meeting. Speakers will have anywhere from 90 seconds to three minutes to provide comment\, depending on the available time on the agenda. Or the public may submit general comments in writing by 5:00 PM one day prior to the meeting. Written comments should be emailed and include “TAC Meeting Public Comment” in the subject line. \nTo learn more\, please visit the Tacoma Arts Commission page.
URL:https://tacoma.gov/event/tacoma-arts-commission-meeting/2029-08-13/
LOCATION:Tacoma Municipal Building\, Room 248\, 747 Market Street\, Tacoma\, WA\, 98402\, United States
ORGANIZER;CN="Rebecca Solverson":MAILTO:rebecca.solverson@tacoma.gov
END:VEVENT
BEGIN:VEVENT
DTSTART;TZID=America/Los_Angeles:20290910T170000
DTEND;TZID=America/Los_Angeles:20290910T190000
DTSTAMP:20260421T051636
CREATED:20250227T230029Z
LAST-MODIFIED:20250506T165621Z
UID:10004872-1883754000-1883761200@tacoma.gov
SUMMARY:Tacoma Arts Commission Meeting
DESCRIPTION:The Tacoma Arts Commission provides leadership in supporting and enhancing arts and culture for the benefit of the City and its residents. The primary responsibility of the Commission is to create policies to support the ongoing development of arts programs and projects in Tacoma. \nHybrid meetings are held every second Monday of the month from 5:00 – 7:00 PM. Committee members and members of the public can participate in the monthly Zoom meeting virtually or at Tacoma Municipal Building in Room 248. \nZoom Link: Please see the agenda for details. \nPublic Comment: The public may give oral comments related to agenda items at the beginning of the meeting. Speakers will have anywhere from 90 seconds to three minutes to provide comment\, depending on the available time on the agenda. Or the public may submit general comments in writing by 5:00 PM one day prior to the meeting. Written comments should be emailed and include “TAC Meeting Public Comment” in the subject line. \nTo learn more\, please visit the Tacoma Arts Commission page.
URL:https://tacoma.gov/event/tacoma-arts-commission-meeting/2029-09-10/
LOCATION:Tacoma Municipal Building\, Room 248\, 747 Market Street\, Tacoma\, WA\, 98402\, United States
ORGANIZER;CN="Rebecca Solverson":MAILTO:rebecca.solverson@tacoma.gov
END:VEVENT
BEGIN:VEVENT
DTSTART;TZID=America/Los_Angeles:20291008T170000
DTEND;TZID=America/Los_Angeles:20291008T190000
DTSTAMP:20260421T051636
CREATED:20250227T230029Z
LAST-MODIFIED:20250506T165621Z
UID:10004873-1886173200-1886180400@tacoma.gov
SUMMARY:Tacoma Arts Commission Meeting
DESCRIPTION:The Tacoma Arts Commission provides leadership in supporting and enhancing arts and culture for the benefit of the City and its residents. The primary responsibility of the Commission is to create policies to support the ongoing development of arts programs and projects in Tacoma. \nHybrid meetings are held every second Monday of the month from 5:00 – 7:00 PM. Committee members and members of the public can participate in the monthly Zoom meeting virtually or at Tacoma Municipal Building in Room 248. \nZoom Link: Please see the agenda for details. \nPublic Comment: The public may give oral comments related to agenda items at the beginning of the meeting. Speakers will have anywhere from 90 seconds to three minutes to provide comment\, depending on the available time on the agenda. Or the public may submit general comments in writing by 5:00 PM one day prior to the meeting. Written comments should be emailed and include “TAC Meeting Public Comment” in the subject line. \nTo learn more\, please visit the Tacoma Arts Commission page.
URL:https://tacoma.gov/event/tacoma-arts-commission-meeting/2029-10-08/
LOCATION:Tacoma Municipal Building\, Room 248\, 747 Market Street\, Tacoma\, WA\, 98402\, United States
ORGANIZER;CN="Rebecca Solverson":MAILTO:rebecca.solverson@tacoma.gov
END:VEVENT
BEGIN:VEVENT
DTSTART;TZID=America/Los_Angeles:20291112T170000
DTEND;TZID=America/Los_Angeles:20291112T190000
DTSTAMP:20260421T051636
CREATED:20250227T230029Z
LAST-MODIFIED:20250506T165621Z
UID:10004874-1889197200-1889204400@tacoma.gov
SUMMARY:Tacoma Arts Commission Meeting
DESCRIPTION:The Tacoma Arts Commission provides leadership in supporting and enhancing arts and culture for the benefit of the City and its residents. The primary responsibility of the Commission is to create policies to support the ongoing development of arts programs and projects in Tacoma. \nHybrid meetings are held every second Monday of the month from 5:00 – 7:00 PM. Committee members and members of the public can participate in the monthly Zoom meeting virtually or at Tacoma Municipal Building in Room 248. \nZoom Link: Please see the agenda for details. \nPublic Comment: The public may give oral comments related to agenda items at the beginning of the meeting. Speakers will have anywhere from 90 seconds to three minutes to provide comment\, depending on the available time on the agenda. Or the public may submit general comments in writing by 5:00 PM one day prior to the meeting. Written comments should be emailed and include “TAC Meeting Public Comment” in the subject line. \nTo learn more\, please visit the Tacoma Arts Commission page.
URL:https://tacoma.gov/event/tacoma-arts-commission-meeting/2029-11-12/
LOCATION:Tacoma Municipal Building\, Room 248\, 747 Market Street\, Tacoma\, WA\, 98402\, United States
ORGANIZER;CN="Rebecca Solverson":MAILTO:rebecca.solverson@tacoma.gov
END:VEVENT
BEGIN:VEVENT
DTSTART;TZID=America/Los_Angeles:20291210T170000
DTEND;TZID=America/Los_Angeles:20291210T190000
DTSTAMP:20260421T051636
CREATED:20250227T230029Z
LAST-MODIFIED:20250506T165621Z
UID:10004875-1891616400-1891623600@tacoma.gov
SUMMARY:Tacoma Arts Commission Meeting
DESCRIPTION:The Tacoma Arts Commission provides leadership in supporting and enhancing arts and culture for the benefit of the City and its residents. The primary responsibility of the Commission is to create policies to support the ongoing development of arts programs and projects in Tacoma. \nHybrid meetings are held every second Monday of the month from 5:00 – 7:00 PM. Committee members and members of the public can participate in the monthly Zoom meeting virtually or at Tacoma Municipal Building in Room 248. \nZoom Link: Please see the agenda for details. \nPublic Comment: The public may give oral comments related to agenda items at the beginning of the meeting. Speakers will have anywhere from 90 seconds to three minutes to provide comment\, depending on the available time on the agenda. Or the public may submit general comments in writing by 5:00 PM one day prior to the meeting. Written comments should be emailed and include “TAC Meeting Public Comment” in the subject line. \nTo learn more\, please visit the Tacoma Arts Commission page.
URL:https://tacoma.gov/event/tacoma-arts-commission-meeting/2029-12-10/
LOCATION:Tacoma Municipal Building\, Room 248\, 747 Market Street\, Tacoma\, WA\, 98402\, United States
ORGANIZER;CN="Rebecca Solverson":MAILTO:rebecca.solverson@tacoma.gov
END:VEVENT
BEGIN:VEVENT
DTSTART;TZID=America/Los_Angeles:20300114T170000
DTEND;TZID=America/Los_Angeles:20300114T190000
DTSTAMP:20260421T051636
CREATED:20250227T230029Z
LAST-MODIFIED:20250506T165621Z
UID:10004876-1894640400-1894647600@tacoma.gov
SUMMARY:Tacoma Arts Commission Meeting
DESCRIPTION:The Tacoma Arts Commission provides leadership in supporting and enhancing arts and culture for the benefit of the City and its residents. The primary responsibility of the Commission is to create policies to support the ongoing development of arts programs and projects in Tacoma. \nHybrid meetings are held every second Monday of the month from 5:00 – 7:00 PM. Committee members and members of the public can participate in the monthly Zoom meeting virtually or at Tacoma Municipal Building in Room 248. \nZoom Link: Please see the agenda for details. \nPublic Comment: The public may give oral comments related to agenda items at the beginning of the meeting. Speakers will have anywhere from 90 seconds to three minutes to provide comment\, depending on the available time on the agenda. Or the public may submit general comments in writing by 5:00 PM one day prior to the meeting. Written comments should be emailed and include “TAC Meeting Public Comment” in the subject line. \nTo learn more\, please visit the Tacoma Arts Commission page.
URL:https://tacoma.gov/event/tacoma-arts-commission-meeting/2030-01-14/
LOCATION:Tacoma Municipal Building\, Room 248\, 747 Market Street\, Tacoma\, WA\, 98402\, United States
ORGANIZER;CN="Rebecca Solverson":MAILTO:rebecca.solverson@tacoma.gov
END:VEVENT
BEGIN:VEVENT
DTSTART;TZID=America/Los_Angeles:20300211T170000
DTEND;TZID=America/Los_Angeles:20300211T190000
DTSTAMP:20260421T051636
CREATED:20250227T230029Z
LAST-MODIFIED:20250506T165621Z
UID:10004877-1897059600-1897066800@tacoma.gov
SUMMARY:Tacoma Arts Commission Meeting
DESCRIPTION:The Tacoma Arts Commission provides leadership in supporting and enhancing arts and culture for the benefit of the City and its residents. The primary responsibility of the Commission is to create policies to support the ongoing development of arts programs and projects in Tacoma. \nHybrid meetings are held every second Monday of the month from 5:00 – 7:00 PM. Committee members and members of the public can participate in the monthly Zoom meeting virtually or at Tacoma Municipal Building in Room 248. \nZoom Link: Please see the agenda for details. \nPublic Comment: The public may give oral comments related to agenda items at the beginning of the meeting. Speakers will have anywhere from 90 seconds to three minutes to provide comment\, depending on the available time on the agenda. Or the public may submit general comments in writing by 5:00 PM one day prior to the meeting. Written comments should be emailed and include “TAC Meeting Public Comment” in the subject line. \nTo learn more\, please visit the Tacoma Arts Commission page.
URL:https://tacoma.gov/event/tacoma-arts-commission-meeting/2030-02-11/
LOCATION:Tacoma Municipal Building\, Room 248\, 747 Market Street\, Tacoma\, WA\, 98402\, United States
ORGANIZER;CN="Rebecca Solverson":MAILTO:rebecca.solverson@tacoma.gov
END:VEVENT
BEGIN:VEVENT
DTSTART;TZID=America/Los_Angeles:20300311T170000
DTEND;TZID=America/Los_Angeles:20300311T190000
DTSTAMP:20260421T051636
CREATED:20250227T230029Z
LAST-MODIFIED:20250506T165621Z
UID:10005778-1899478800-1899486000@tacoma.gov
SUMMARY:Tacoma Arts Commission Meeting
DESCRIPTION:The Tacoma Arts Commission provides leadership in supporting and enhancing arts and culture for the benefit of the City and its residents. The primary responsibility of the Commission is to create policies to support the ongoing development of arts programs and projects in Tacoma. \nHybrid meetings are held every second Monday of the month from 5:00 – 7:00 PM. Committee members and members of the public can participate in the monthly Zoom meeting virtually or at Tacoma Municipal Building in Room 248. \nZoom Link: Please see the agenda for details. \nPublic Comment: The public may give oral comments related to agenda items at the beginning of the meeting. Speakers will have anywhere from 90 seconds to three minutes to provide comment\, depending on the available time on the agenda. Or the public may submit general comments in writing by 5:00 PM one day prior to the meeting. Written comments should be emailed and include “TAC Meeting Public Comment” in the subject line. \nTo learn more\, please visit the Tacoma Arts Commission page.
URL:https://tacoma.gov/event/tacoma-arts-commission-meeting/2030-03-11/
LOCATION:Tacoma Municipal Building\, Room 248\, 747 Market Street\, Tacoma\, WA\, 98402\, United States
ORGANIZER;CN="Rebecca Solverson":MAILTO:rebecca.solverson@tacoma.gov
END:VEVENT
BEGIN:VEVENT
DTSTART;TZID=America/Los_Angeles:20300408T170000
DTEND;TZID=America/Los_Angeles:20300408T190000
DTSTAMP:20260421T051636
CREATED:20250227T230029Z
LAST-MODIFIED:20250506T165621Z
UID:10007559-1901898000-1901905200@tacoma.gov
SUMMARY:Tacoma Arts Commission Meeting
DESCRIPTION:The Tacoma Arts Commission provides leadership in supporting and enhancing arts and culture for the benefit of the City and its residents. The primary responsibility of the Commission is to create policies to support the ongoing development of arts programs and projects in Tacoma. \nHybrid meetings are held every second Monday of the month from 5:00 – 7:00 PM. Committee members and members of the public can participate in the monthly Zoom meeting virtually or at Tacoma Municipal Building in Room 248. \nZoom Link: Please see the agenda for details. \nPublic Comment: The public may give oral comments related to agenda items at the beginning of the meeting. Speakers will have anywhere from 90 seconds to three minutes to provide comment\, depending on the available time on the agenda. Or the public may submit general comments in writing by 5:00 PM one day prior to the meeting. Written comments should be emailed and include “TAC Meeting Public Comment” in the subject line. \nTo learn more\, please visit the Tacoma Arts Commission page.
URL:https://tacoma.gov/event/tacoma-arts-commission-meeting/2030-04-08/
LOCATION:Tacoma Municipal Building\, Room 248\, 747 Market Street\, Tacoma\, WA\, 98402\, United States
ORGANIZER;CN="Rebecca Solverson":MAILTO:rebecca.solverson@tacoma.gov
END:VEVENT
END:VCALENDAR